BEGIN:VCALENDAR
VERSION:2.0
PRODID:-//Date iCal//NONSGML kigkonsult.se iCalcreator 2.20.2//
METHOD:PUBLISH
X-WR-CALNAME;VALUE=TEXT:Event Calendar
BEGIN:VEVENT
UID:calendar.11245.field_event_date.0@mitchelllake.audubon.org
DTSTAMP:20210911T014415Z
CREATED:20210510T202714Z
DESCRIPTION:There's no better place for learning how to bird.\n  Saturday\,
  September 25\, 2021 - \n08:00 to 10:00
DTSTART:20210925T080000Z
DTEND:20210925T100000Z
LAST-MODIFIED:20210528T143000Z
LOCATION:10750 Pleasanton Road\, San Antonio\, Texas\, 78221\, United State
 s
SUMMARY:Beginner Bird Walk
URL;TYPE=URI:https://mitchelllake.audubon.org/events/beginner-bird-walk-2
END:VEVENT
END:VCALENDAR
