BEGIN:VCALENDAR
VERSION:2.0
PRODID:-//Date iCal//NONSGML kigkonsult.se iCalcreator 2.20.2//
METHOD:PUBLISH
X-WR-CALNAME;VALUE=TEXT:Event Calendar
BEGIN:VEVENT
UID:calendar.11350.field_event_date.0@mitchelllake.audubon.org
DTSTAMP:20210911T014447Z
CREATED:20210514T180312Z
DESCRIPTION:On this guided bird tour around the various habitats of \n  Sun
 day\, September 26\, 2021 - \n08:00 to 11:00
DTSTART:20210926T080000Z
DTEND:20210926T110000Z
LAST-MODIFIED:20210514T180312Z
LOCATION:10750 Pleasanton Road\, San Antonio\, Texas\, 78221\, United State
 s
SUMMARY:Guided Bird Tour
URL;TYPE=URI:https://mitchelllake.audubon.org/events/guided-bird-tour-20
END:VEVENT
END:VCALENDAR
