BEGIN:VCALENDAR
VERSION:2.0
PRODID:-//Date iCal//NONSGML kigkonsult.se iCalcreator 2.20.2//
METHOD:PUBLISH
X-WR-CALNAME;VALUE=TEXT:Event Calendar
BEGIN:VEVENT
UID:calendar.11378.field_event_date.0@mitchelllake.audubon.org
DTSTAMP:20210911T013949Z
CREATED:20210528T145039Z
DESCRIPTION:Join us and other members of the community to help us cl\n  Sat
 urday\, November 13\, 2021 - \n08:00 to 11:00
DTSTART:20211113T080000Z
DTEND:20211113T110000Z
LAST-MODIFIED:20210528T145039Z
LOCATION:10750 Pleasanton Road\, San Antonio\, Texas\, 78221\, United State
 s
SUMMARY:2nd Saturday Habitat Clean-Up
URL;TYPE=URI:https://mitchelllake.audubon.org/events/2nd-saturday-habitat-c
 lean-5
END:VEVENT
END:VCALENDAR
