BEGIN:VCALENDAR
VERSION:2.0
PRODID:-//Date iCal//NONSGML kigkonsult.se iCalcreator 2.20.2//
METHOD:PUBLISH
X-WR-CALNAME;VALUE=TEXT:Event Calendar
BEGIN:VEVENT
UID:calendar.11382.field_event_date.0@mitchelllake.audubon.org
DTSTAMP:20210911T014436Z
CREATED:20210816T162133Z
DESCRIPTION:Saturday\, September 25\, 6 – 7:30 pm\n  Saturday\, September 2
 5\, 2021 - \n18:00 to 19:30
DTSTART:20210925T180000Z
DTEND:20210925T193000Z
LAST-MODIFIED:20210816T162133Z
LOCATION:10750 Pleasanton Road\, San Antonio\, Texas\, 78221\, United State
 s
SUMMARY:Parking Lot Birding at Mitchell Lake Audubon Center
URL;TYPE=URI:https://mitchelllake.audubon.org/events/parking-lot-birding-mi
 tchell-lake-audubon-center
END:VEVENT
END:VCALENDAR
