BEGIN:VCALENDAR
VERSION:2.0
PRODID:-//Date iCal//NONSGML kigkonsult.se iCalcreator 2.20.2//
METHOD:PUBLISH
X-WR-CALNAME;VALUE=TEXT:Event Calendar
BEGIN:VEVENT
UID:calendar.11457.field_event_date.0@mitchelllake.audubon.org
DTSTAMP:20210911T014425Z
CREATED:20210816T174704Z
DESCRIPTION:Purchase tickets to visit the Mitchell Lake Audubon Cent\n  Sat
 urday\, September 25\, 2021 - \n08:00 to 15:00
DTSTART:20210925T080000Z
DTEND:20210925T150000Z
LAST-MODIFIED:20210816T174704Z
LOCATION:10750 Pleasanton Road\, San Antonio\, Texas\, 78221\, United State
 s
SUMMARY:Visit the Center - Fall/Winter Hours
URL;TYPE=URI:https://mitchelllake.audubon.org/events/visit-center-fallwinte
 r-hours-54
END:VEVENT
END:VCALENDAR
