BEGIN:VCALENDAR
VERSION:2.0
PRODID:-//Date iCal//NONSGML kigkonsult.se iCalcreator 2.20.2//
METHOD:PUBLISH
X-WR-CALNAME;VALUE=TEXT:Event Calendar
BEGIN:VEVENT
UID:calendar.11468.field_event_date.0@mitchelllake.audubon.org
DTSTAMP:20210911T014547Z
CREATED:20210816T175433Z
DESCRIPTION:Intro to Native Plants\n  Thursday\, September 30\, 2021 - \n18
 :00 to 19:00
DTSTART:20210930T180000Z
DTEND:20210930T190000Z
LAST-MODIFIED:20210816T175433Z
LOCATION:Texas\, United States
SUMMARY:Intro to Native Plants
URL;TYPE=URI:https://mitchelllake.audubon.org/events/intro-native-plants
END:VEVENT
END:VCALENDAR
